BEGIN:VCALENDAR
VERSION:2.0
PRODID:-//Q3. Quartier für Medien.Bildung.Abenteuer. - ECPv6.15.14//NONSGML v1.0//EN
CALSCALE:GREGORIAN
METHOD:PUBLISH
X-WR-CALNAME:Q3. Quartier für Medien.Bildung.Abenteuer.
X-ORIGINAL-URL:https://www.qdrei.info
X-WR-CALDESC:Veranstaltungen für Q3. Quartier für Medien.Bildung.Abenteuer.
REFRESH-INTERVAL;VALUE=DURATION:PT1H
X-Robots-Tag:noindex
X-PUBLISHED-TTL:PT1H
BEGIN:VTIMEZONE
TZID:Europe/Berlin
BEGIN:DAYLIGHT
TZOFFSETFROM:+0100
TZOFFSETTO:+0200
TZNAME:CEST
DTSTART:20240331T010000
END:DAYLIGHT
BEGIN:STANDARD
TZOFFSETFROM:+0200
TZOFFSETTO:+0100
TZNAME:CET
DTSTART:20241027T010000
END:STANDARD
BEGIN:DAYLIGHT
TZOFFSETFROM:+0100
TZOFFSETTO:+0200
TZNAME:CEST
DTSTART:20250330T010000
END:DAYLIGHT
BEGIN:STANDARD
TZOFFSETFROM:+0200
TZOFFSETTO:+0100
TZNAME:CET
DTSTART:20251026T010000
END:STANDARD
BEGIN:DAYLIGHT
TZOFFSETFROM:+0100
TZOFFSETTO:+0200
TZNAME:CEST
DTSTART:20260329T010000
END:DAYLIGHT
BEGIN:STANDARD
TZOFFSETFROM:+0200
TZOFFSETTO:+0100
TZNAME:CET
DTSTART:20261025T010000
END:STANDARD
END:VTIMEZONE
BEGIN:VEVENT
DTSTART;TZID=Europe/Berlin:20250329T140000
DTEND;TZID=Europe/Berlin:20250329T180000
DTSTAMP:20260423T211002
CREATED:20250313T171849Z
LAST-MODIFIED:20250314T163723Z
UID:4397-1743256800-1743271200@www.qdrei.info
SUMMARY:FAMILIEN-WORKSHOP – Forschen und Entdecken: Die Wunder der Natur erleben
DESCRIPTION:In diesem Workshop werden (Groß-)Eltern und Kinder gemeinsam zu Forscher:innen! Sie entdecken\, wie digitale Medien das Erkunden der Welt bereichern: Schauen der Kresse beim Wachsen zu\, nehmen Geräusche auf\, untersuchen Blätter mit dem Mikroskop oder bestimmen Tiere und Pflanzen mit Apps. Die (digitale) Welt hält spannende Möglichkeiten bereit – im Familien-Workshop gibt es jede Menge Inspiration!  (Für Familien mit Kindern von 4 bis 11 Jahren)  \nAnmeldung bis 27.03. möglich.
URL:https://www.qdrei.info/veranstaltung/familien-workshop-forschen-und-entdecken-die-wunder-der-natur-erleben-2/
LOCATION:Pfarrsaal Teisendorf\, Posttrasse 25\, Teisendorf\, 83317
CATEGORIES:Family Akademie
END:VEVENT
END:VCALENDAR