BEGIN:VCALENDAR
VERSION:2.0
PRODID:-//Q3. Quartier für Medien.Bildung.Abenteuer. - ECPv6.15.14//NONSGML v1.0//EN
CALSCALE:GREGORIAN
METHOD:PUBLISH
X-WR-CALNAME:Q3. Quartier für Medien.Bildung.Abenteuer.
X-ORIGINAL-URL:https://www.qdrei.info
X-WR-CALDESC:Veranstaltungen für Q3. Quartier für Medien.Bildung.Abenteuer.
REFRESH-INTERVAL;VALUE=DURATION:PT1H
X-Robots-Tag:noindex
X-PUBLISHED-TTL:PT1H
BEGIN:VTIMEZONE
TZID:Europe/Berlin
BEGIN:DAYLIGHT
TZOFFSETFROM:+0100
TZOFFSETTO:+0200
TZNAME:CEST
DTSTART:20230326T010000
END:DAYLIGHT
BEGIN:STANDARD
TZOFFSETFROM:+0200
TZOFFSETTO:+0100
TZNAME:CET
DTSTART:20231029T010000
END:STANDARD
BEGIN:DAYLIGHT
TZOFFSETFROM:+0100
TZOFFSETTO:+0200
TZNAME:CEST
DTSTART:20240331T010000
END:DAYLIGHT
BEGIN:STANDARD
TZOFFSETFROM:+0200
TZOFFSETTO:+0100
TZNAME:CET
DTSTART:20241027T010000
END:STANDARD
BEGIN:DAYLIGHT
TZOFFSETFROM:+0100
TZOFFSETTO:+0200
TZNAME:CEST
DTSTART:20250330T010000
END:DAYLIGHT
BEGIN:STANDARD
TZOFFSETFROM:+0200
TZOFFSETTO:+0100
TZNAME:CET
DTSTART:20251026T010000
END:STANDARD
END:VTIMEZONE
BEGIN:VEVENT
DTSTART;TZID=Europe/Berlin:20241207T140000
DTEND;TZID=Europe/Berlin:20241207T180000
DTSTAMP:20260423T114227
CREATED:20241103T161251Z
LAST-MODIFIED:20241103T165755Z
UID:4218-1733580000-1733594400@www.qdrei.info
SUMMARY:FAMILIEN-WORKSHOP – Lightpainting
DESCRIPTION:Die Tage werden kürzer und damit die dunklen Stunden länger. Eine gute Möglichkeit\, um mit Licht Bilder entstehen zu lassen. Bei diesem Workshop nutzen wir verschiedene Lichtquellen und die Langzeitbelichtungseinstellung an der Kamera\, um neuartige Fotos mit interessanten Effekten zu gestalten. Bewegliche Lichter wie Taschenlampen\, Fahrradlichter\, LED-Deko\, Laserschwerter oder durchscheinende farbige Plastikverpackungen können gern mitgebracht werden. Natürlich gibt es auch viele Tipps und Ideen\, um Lightpainting ganz einfach zu Hause umzusetzen.  \n(Familien mit Kindern ab 8 Jahren)  \nAnmeldung erfolgt über unser Anmeldeportal hier. \n  \n 
URL:https://www.qdrei.info/veranstaltung/familien-workshop-lightpainting/
LOCATION:Campus St. Michael\, Vonfichtstr. 1\, Traunstein\, 83278
ORGANIZER;CN="Campus St. Michael":MAILTO:office@campusstmichael.de
END:VEVENT
BEGIN:VEVENT
DTSTART;TZID=Europe/Berlin:20241207T140000
DTEND;TZID=Europe/Berlin:20241207T180000
DTSTAMP:20260423T114227
CREATED:20241107T124338Z
LAST-MODIFIED:20241107T124338Z
UID:4251-1733580000-1733594400@www.qdrei.info
SUMMARY:FAMILIEN-WORKSHOP – Der eigene Trickfilm (Ainring)
DESCRIPTION:Smartphone und Tablet sind tolle Werkzeuge für eigene Medienprodukte. Durch Galaxien schweben oder Dinos treffen: Das alles und noch mehr ist in der Welt des Trickfilms möglich. Kinder können zusammen mit einem Familienmitglied Gegenstände und Bilder zum Leben erwecken. Es können Animationen\, Lege- oder Sachtrickfilme erstellt werden. Gemeinsam realisieren die Familien unter Anleitung einen Trickfilm und können diesen mitnehmen.  (ab 6 Jahren)  \nAnmeldung erfolgt über unser Anmeldeportal.
URL:https://www.qdrei.info/veranstaltung/familien-workshop-der-eigene-trickfilm-ainring/
LOCATION:Grundschule Mitterfelden\, Salzstraße 83\, Ainring\, 83404
END:VEVENT
BEGIN:VEVENT
DTSTART;TZID=Europe/Berlin:20241214T140000
DTEND;TZID=Europe/Berlin:20241214T180000
DTSTAMP:20260423T114227
CREATED:20241103T161348Z
LAST-MODIFIED:20241103T165817Z
UID:4220-1734184800-1734199200@www.qdrei.info
SUMMARY:FAMILIEN-WORKSHOP – Nachhaltiges Schenken und Verpacken zu Weihnachten
DESCRIPTION:In diesem Upcycling-Workshop überlegen wir gemeinsam\, wie das Schenken zu Weihnachten nachhaltig werden kann. Dabei sammeln wir Geschenkideen und erstellen mit TetraPak\, altem Füllmaterial\, Schuhkartons und Kissenbezügen Geschenkverpackungen\, welche mit dem Schneideplotter personalisiert werden können.  \n(Familien mit Kindern ab 8 Jahren)  \n  \nAnmeldung erfolgt über unser Anmeldeportal hier.
URL:https://www.qdrei.info/veranstaltung/familien-workshop-nachhaltiges-schenken-und-verpacken-zu-weihnachten/
LOCATION:Campus St. Michael\, Vonfichtstr. 1\, Traunstein\, 83278
ORGANIZER;CN="Campus St. Michael":MAILTO:office@campusstmichael.de
END:VEVENT
BEGIN:VEVENT
DTSTART;TZID=Europe/Berlin:20241214T140000
DTEND;TZID=Europe/Berlin:20241214T180000
DTSTAMP:20260423T114227
CREATED:20241107T124454Z
LAST-MODIFIED:20241107T124603Z
UID:4257-1734184800-1734199200@www.qdrei.info
SUMMARY:FAMILIEN-WORKSHOP – Digitales Schattenspiel to-go
DESCRIPTION:Bei diesem Workshop können Kinder gemeinsam mit einem Familienmitglied ihre eigene Geschichte mit einem selbst gebauten Schattentheater zum Leben erwecken. Dafür werden die benötigten Figuren und Requisiten selbst gebastelt und anschließend mit einem Mobilgerät aufgezeichnet. Hier können bei Bedarf digitale Effekte hinzugefügt werden. Die Q3.Medienpädagog:innen stehen mit Tipps und Tricks zur Seite\, um eine wirkungsvolle Geschichte zu entwickeln.  \nAnmeldung erfolgt über unser Anmeldeportal.
URL:https://www.qdrei.info/veranstaltung/familien-workshop-digitales-schattenspiel-to-go/
LOCATION:Werk71 Freilassing\, Reichenhallerstr. 71\, Freilassing\, 83395
END:VEVENT
BEGIN:VEVENT
DTSTART;TZID=Europe/Berlin:20241221T140000
DTEND;TZID=Europe/Berlin:20241221T180000
DTSTAMP:20260423T114227
CREATED:20241107T124937Z
LAST-MODIFIED:20241107T124937Z
UID:4260-1734789600-1734804000@www.qdrei.info
SUMMARY:FAMILIEN-WORKSHOP – Entdecke die Welt von Makey-Makey – Kreatives Tüfteln für die ganze Familie
DESCRIPTION:In diesem spannenden Workshop tauchen Familien gemeinsam in die faszinierende Welt der Technik ein. Mit der innovativen MakeyMakey-Platine verwandeln wir alltägliche Gegenstände in interaktive Spielzeuge und kreative Kunstwerke. Egal\, ob schon Erfahrung im Programmieren vorhanden ist oder man eher neu in der Welt der Technik ist – hier ist Jede:r willkommen!  \n  \nAnmeldung erfolgt über unser Anmeldeportal.
URL:https://www.qdrei.info/veranstaltung/familien-workshop-entdecke-die-welt-von-makey-makey-kreatives-tuefteln-fuer-die-ganze-familie-2/
LOCATION:Pfarrsaal Teisendorf\, Posttrasse 25\, Teisendorf\, 83317
END:VEVENT
END:VCALENDAR