BEGIN:VCALENDAR
VERSION:2.0
PRODID:-//Q3. Quartier für Medien.Bildung.Abenteuer. - ECPv6.15.14//NONSGML v1.0//EN
CALSCALE:GREGORIAN
METHOD:PUBLISH
X-ORIGINAL-URL:https://www.qdrei.info
X-WR-CALDESC:Veranstaltungen für Q3. Quartier für Medien.Bildung.Abenteuer.
REFRESH-INTERVAL;VALUE=DURATION:PT1H
X-Robots-Tag:noindex
X-PUBLISHED-TTL:PT1H
BEGIN:VTIMEZONE
TZID:Europe/Berlin
BEGIN:DAYLIGHT
TZOFFSETFROM:+0100
TZOFFSETTO:+0200
TZNAME:CEST
DTSTART:20230326T010000
END:DAYLIGHT
BEGIN:STANDARD
TZOFFSETFROM:+0200
TZOFFSETTO:+0100
TZNAME:CET
DTSTART:20231029T010000
END:STANDARD
BEGIN:DAYLIGHT
TZOFFSETFROM:+0100
TZOFFSETTO:+0200
TZNAME:CEST
DTSTART:20240331T010000
END:DAYLIGHT
BEGIN:STANDARD
TZOFFSETFROM:+0200
TZOFFSETTO:+0100
TZNAME:CET
DTSTART:20241027T010000
END:STANDARD
BEGIN:DAYLIGHT
TZOFFSETFROM:+0100
TZOFFSETTO:+0200
TZNAME:CEST
DTSTART:20250330T010000
END:DAYLIGHT
BEGIN:STANDARD
TZOFFSETFROM:+0200
TZOFFSETTO:+0100
TZNAME:CET
DTSTART:20251026T010000
END:STANDARD
END:VTIMEZONE
BEGIN:VEVENT
DTSTART;TZID=Europe/Berlin:20241109T140000
DTEND;TZID=Europe/Berlin:20241109T180000
DTSTAMP:20260423T125806
CREATED:20241103T161652Z
LAST-MODIFIED:20241103T165911Z
UID:4210-1731160800-1731175200@www.qdrei.info
SUMMARY:Elternworkshop: KI für Eltern - Hands-On!
DESCRIPTION:KI Workshop für Eltern: Was machen unsere Kinder mit KI in der Schule? Ist es ok\, wenn Hausaufgaben mit ChatGPT gemacht werden? Worauf sollten wir achten? Wie können wir unsere Kinder unterstützen\, wenn sie KI nutzen? Wir besprechen heute viele Fragen zur Elternsicht auf KI. \nAber vor allem: Wir probieren es selbst aus und benutzen ChatGPT & Co (ab) heute selbst. \nAnmeldung erfolgt über unser Anmeldeportal hier. \n 
URL:https://www.qdrei.info/veranstaltung/familyakademie-ki-fuer-eltern-hands-on/
LOCATION:Campus St. Michael\, Vonfichtstr. 1\, Traunstein\, 83278
ORGANIZER;CN="Campus St. Michael":MAILTO:office@campusstmichael.de
END:VEVENT
BEGIN:VEVENT
DTSTART;TZID=Europe/Berlin:20241109T140000
DTEND;TZID=Europe/Berlin:20241109T180000
DTSTAMP:20260423T125806
CREATED:20241107T122807Z
LAST-MODIFIED:20241107T122807Z
UID:4234-1731160800-1731175200@www.qdrei.info
SUMMARY:FAMILIEN-WORKSHOP – Entdecke die Welt von Makey-Makey – Kreatives Tüfteln für die ganze Familie
DESCRIPTION:In diesem spannenden Workshop tauchen Familien gemeinsam in die faszinierende Welt der Technik ein. Mit der innovativen MakeyMakey-Platine verwandeln wir alltägliche Gegenstände in interaktive Spielzeuge und kreative Kunstwerke. Egal\, ob schon Erfahrung im Programmieren vorhanden ist oder man eher neu in der Welt der Technik ist – hier ist Jede:r willkommen!  (Familien mit Kindern von 3 – 11 Jahren)  \nHier geht’s zur Anmeldung. \n 
URL:https://www.qdrei.info/veranstaltung/familien-workshop-entdecke-die-welt-von-makey-makey-kreatives-tuefteln-fuer-die-ganze-familie/
LOCATION:Rathaussaal Weißbach\, Berchtesgadener Str. 12\, Schneizlreuth\, 83458
END:VEVENT
BEGIN:VEVENT
DTSTART;TZID=Europe/Berlin:20241116T140000
DTEND;TZID=Europe/Berlin:20241116T180000
DTSTAMP:20260423T125806
CREATED:20241103T161048Z
LAST-MODIFIED:20241103T165844Z
UID:4214-1731765600-1731780000@www.qdrei.info
SUMMARY:FAMILIEN-WORKSHOP – Von der Milch zum Käse
DESCRIPTION:Die Teilnehmenden (Familien mit Kindern ab 8 Jahren)  lernen auf dem Bauernhof in Holneich alles zum Thema Landwirtschaft und Milchviehwirtschaft. Aus Milch wird anschließend Frischkäse produziert und das Rezept als nachhaltiger Lerninhalt digital festgehalten.  \n  \n(Der Workshop findet ab 4 Familien statt.)  \n  \nAnmeldung erfolgt über unser Anmeldeportal hier.
URL:https://www.qdrei.info/veranstaltung/familien-workshop-von-der-milch-zum-kaese/
LOCATION:Bauernhof Holneich\, Holneich 2\, Surberg/ Lauter\, 83362
ORGANIZER;CN="Campus St. Michael":MAILTO:office@campusstmichael.de
END:VEVENT
BEGIN:VEVENT
DTSTART;TZID=Europe/Berlin:20241116T140000
DTEND;TZID=Europe/Berlin:20241116T180000
DTSTAMP:20260423T125806
CREATED:20241107T123210Z
LAST-MODIFIED:20241107T123215Z
UID:4238-1731765600-1731780000@www.qdrei.info
SUMMARY:FAMILIEN-WORKSHOP – Künstliche Intelligenz – Entdeckungsreise für Familien
DESCRIPTION:Gemeinsam tauchen wir in die faszinierende Welt der Künstlichen Intelligenz (KI) ein und entdecken gemeinsam\, wie diese Zukunftstechnologie unser Leben bereits heute beeinflusst und in Zukunft verändern wird. In dem Workshop erkunden wir die Chancen und Herausforderungen von KI\, lernen ihre Funktionsweise kennen und probieren praktische Anwendungen aus. (Familien mit Kindern ab 10 Jahren)  \n  \nAnmeldung erfolgt über unser Anmeldeportal.
URL:https://www.qdrei.info/veranstaltung/familien-workshop-kuenstliche-intelligenz-entdeckungsreise-fuer-familien/
LOCATION:Grundschule Saaldorf\, Stalberstraße 4\, Saaldorf\, 83416
END:VEVENT
BEGIN:VEVENT
DTSTART;TZID=Europe/Berlin:20241123T090000
DTEND;TZID=Europe/Berlin:20241123T113000
DTSTAMP:20260423T125806
CREATED:20241107T123502Z
LAST-MODIFIED:20241122T154855Z
UID:4242-1732352400-1732361400@www.qdrei.info
SUMMARY:ELTERN –WORKSHOP – KI Workshop für Eltern
DESCRIPTION:Workshop für Eltern. \nWas machen unsere Kinder mit KI in der Schule? Ist es ok\, wenn Hausaufgaben mit ChatGPT gemacht werden? Worauf sollten wir achten? Wie können wir unsere Kinder unterstützen\, wenn sie KI nutzen? Wir besprechen heute viele Fragen zur Elternsicht auf KI. Aber vor allem: Wir probieren es selbst aus und benutzen ChatGPT & Co (ab) heute selbst.  \nAnmeldung erfolgt über unser Anmeldeportal.
URL:https://www.qdrei.info/veranstaltung/eltern-workshop-ki-workshop-fuer-eltern-23-11-24-14-18-uhr-marktschellenberg/
LOCATION:Marktschellenberg Feuerwehrhaus\, Alpenstraße 2\, Marktschellenberg\, 83487
END:VEVENT
BEGIN:VEVENT
DTSTART;TZID=Europe/Berlin:20241130T140000
DTEND;TZID=Europe/Berlin:20241130T180000
DTSTAMP:20260423T125806
CREATED:20241107T123548Z
LAST-MODIFIED:20241107T124353Z
UID:4245-1732975200-1732989600@www.qdrei.info
SUMMARY:FAMILIEN-WORKSHOP – Der eigene Trickfilm (Bad Reichenhall)
DESCRIPTION:Smartphone und Tablet sind tolle Werkzeuge für eigene Medienprodukte. Durch Galaxien schweben oder Dinos treffen: Das alles und noch mehr ist in der Welt des Trickfilms möglich. Kinder können zusammen mit einem Familienmitglied Gegenstände und Bilder zum Leben erwecken. Es können Animationen\, Lege- oder Sachtrickfilme erstellt werden. Gemeinsam realisieren die Familien unter Anleitung einen Trickfilm und können diesen mitnehmen.  (ab 6 Jahren)  \n  \nHier geht es zur Anmeldung.
URL:https://www.qdrei.info/veranstaltung/familien-workshop-der-eigene-trickfilm-30-11-24-14-18-uhr-bad-reichenhall/
LOCATION:Geschäftsstelle KJR BGL\, Sebastianigasse 4\, Bad Reichenhall\, 83435
END:VEVENT
END:VCALENDAR