BEGIN:VCALENDAR
VERSION:2.0
PRODID:-//Q3. Quartier für Medien.Bildung.Abenteuer. - ECPv6.15.14//NONSGML v1.0//EN
CALSCALE:GREGORIAN
METHOD:PUBLISH
X-ORIGINAL-URL:https://www.qdrei.info
X-WR-CALDESC:Veranstaltungen für Q3. Quartier für Medien.Bildung.Abenteuer.
REFRESH-INTERVAL;VALUE=DURATION:PT1H
X-Robots-Tag:noindex
X-PUBLISHED-TTL:PT1H
BEGIN:VTIMEZONE
TZID:Europe/Berlin
BEGIN:DAYLIGHT
TZOFFSETFROM:+0100
TZOFFSETTO:+0200
TZNAME:CEST
DTSTART:20230326T010000
END:DAYLIGHT
BEGIN:STANDARD
TZOFFSETFROM:+0200
TZOFFSETTO:+0100
TZNAME:CET
DTSTART:20231029T010000
END:STANDARD
BEGIN:DAYLIGHT
TZOFFSETFROM:+0100
TZOFFSETTO:+0200
TZNAME:CEST
DTSTART:20240331T010000
END:DAYLIGHT
BEGIN:STANDARD
TZOFFSETFROM:+0200
TZOFFSETTO:+0100
TZNAME:CET
DTSTART:20241027T010000
END:STANDARD
BEGIN:DAYLIGHT
TZOFFSETFROM:+0100
TZOFFSETTO:+0200
TZNAME:CEST
DTSTART:20250330T010000
END:DAYLIGHT
BEGIN:STANDARD
TZOFFSETFROM:+0200
TZOFFSETTO:+0100
TZNAME:CET
DTSTART:20251026T010000
END:STANDARD
END:VTIMEZONE
BEGIN:VEVENT
DTSTART;TZID=Europe/Berlin:20240316T093000
DTEND;TZID=Europe/Berlin:20240316T130000
DTSTAMP:20260423T234317
CREATED:20240214T214810Z
LAST-MODIFIED:20240704T150123Z
UID:3975-1710581400-1710594000@www.qdrei.info
SUMMARY:Familien-Workshop: Kreativer Vormittag für die ganze Familie!
DESCRIPTION:Die Veranstaltungen für den Herbst/Winter 2024/25 sind gerade in Planung. \nFamilien\, also Eltern mit ihren Kindern (3 – 8 Jahren)\, sind zu FamilyAkademie eingeladen\, um verschiedene Themenwelten rund um digitale Bildung zu entdecken. Eltern können zusammen mit ihren Kindern forschen\, experimentieren\, ausprobieren und gestalten. Im CMW Lab gibt es dazu die Stationen: \n· Programmierung & Robotik \n· Filmarbeit & Kameratricks \n· Creative Making \n· Forschen mit Medien \nMedien bieten vielfältige Optionen wie beispielsweise Unterhaltung\, Information\, Spiel\, kreatives Gestalten. Auf welche Art diese Möglichkeiten in der Familie gemeinsam gut genutzt werden und Familien digitale Erziehung chancenreich und risikofrei gestalten können\, wird in der FamilyAkademie gemeinsam erprobt. In einer Atmosphäre\, die frei von Vorurteilen und Wertungen ist\, können sich Eltern mit Medienpädagog:innen zum kreativen\, kritischen und sicheren Umgang mit digitalen Medien austauschen – und vor allem viel selbst ausprobieren. \nEine Anmeldung ist bis zum 14.03.2024 möglich.
URL:https://www.qdrei.info/veranstaltung/familyakademie-kreativer-vormittag-fuer-die-ganze-familie/
LOCATION:CMW Lab Traunstein\, Bahnhofstraße 2-4\, Traunstein
END:VEVENT
END:VCALENDAR