BEGIN:VCALENDAR
VERSION:2.0
PRODID:-//Q3. Quartier für Medien.Bildung.Abenteuer. - ECPv6.15.14//NONSGML v1.0//EN
CALSCALE:GREGORIAN
METHOD:PUBLISH
X-WR-CALNAME:Q3. Quartier für Medien.Bildung.Abenteuer.
X-ORIGINAL-URL:https://www.qdrei.info
X-WR-CALDESC:Veranstaltungen für Q3. Quartier für Medien.Bildung.Abenteuer.
REFRESH-INTERVAL;VALUE=DURATION:PT1H
X-Robots-Tag:noindex
X-PUBLISHED-TTL:PT1H
BEGIN:VTIMEZONE
TZID:Europe/Berlin
BEGIN:DAYLIGHT
TZOFFSETFROM:+0100
TZOFFSETTO:+0200
TZNAME:CEST
DTSTART:20220327T010000
END:DAYLIGHT
BEGIN:STANDARD
TZOFFSETFROM:+0200
TZOFFSETTO:+0100
TZNAME:CET
DTSTART:20221030T010000
END:STANDARD
BEGIN:DAYLIGHT
TZOFFSETFROM:+0100
TZOFFSETTO:+0200
TZNAME:CEST
DTSTART:20230326T010000
END:DAYLIGHT
BEGIN:STANDARD
TZOFFSETFROM:+0200
TZOFFSETTO:+0100
TZNAME:CET
DTSTART:20231029T010000
END:STANDARD
BEGIN:DAYLIGHT
TZOFFSETFROM:+0100
TZOFFSETTO:+0200
TZNAME:CEST
DTSTART:20240331T010000
END:DAYLIGHT
BEGIN:STANDARD
TZOFFSETFROM:+0200
TZOFFSETTO:+0100
TZNAME:CET
DTSTART:20241027T010000
END:STANDARD
END:VTIMEZONE
BEGIN:VEVENT
DTSTART;TZID=Europe/Berlin:20231216T140000
DTEND;TZID=Europe/Berlin:20231216T180000
DTSTAMP:20260424T034742
CREATED:20210917T115233Z
LAST-MODIFIED:20231010T194951Z
UID:2905-1702735200-1702749600@www.qdrei.info
SUMMARY:FAMILIEN-WORKSHOP – Nachhaltiges Schenken zu Weihnachten
DESCRIPTION:– ab 6 Jahren – \nIn diesem Upcycling-Workshop überlegen wir gemeinsam\, wie das Schenken zu Weihnachten nachhaltig werden kann. Dabei sammeln wir Geschenkideen und erstellen mit TetraPak\, altem Füllmaterial\, Schuhkartons und Kissenbezügen Geschenkverpackungen\, welche mit dem Schneideplotter personalisiert werden können. Außerdem gibt es die Möglichkeit\, die eigene Weihnachtspost zu vertonen.\nEine Anmeldung ist bis zum 14.12.2023 möglich.
URL:https://www.qdrei.info/veranstaltung/familien-workshop-schenken/
LOCATION:Campus St. Michael\, Vonfichtstr. 1\, Traunstein\, 83278
CATEGORIES:Family Akademie
END:VEVENT
END:VCALENDAR