BEGIN:VCALENDAR
VERSION:2.0
PRODID:-//Q3. Quartier für Medien.Bildung.Abenteuer. - ECPv6.15.14//NONSGML v1.0//EN
CALSCALE:GREGORIAN
METHOD:PUBLISH
X-ORIGINAL-URL:https://www.qdrei.info
X-WR-CALDESC:Veranstaltungen für Q3. Quartier für Medien.Bildung.Abenteuer.
REFRESH-INTERVAL;VALUE=DURATION:PT1H
X-Robots-Tag:noindex
X-PUBLISHED-TTL:PT1H
BEGIN:VTIMEZONE
TZID:Europe/Berlin
BEGIN:DAYLIGHT
TZOFFSETFROM:+0100
TZOFFSETTO:+0200
TZNAME:CEST
DTSTART:20220327T010000
END:DAYLIGHT
BEGIN:STANDARD
TZOFFSETFROM:+0200
TZOFFSETTO:+0100
TZNAME:CET
DTSTART:20221030T010000
END:STANDARD
BEGIN:DAYLIGHT
TZOFFSETFROM:+0100
TZOFFSETTO:+0200
TZNAME:CEST
DTSTART:20230326T010000
END:DAYLIGHT
BEGIN:STANDARD
TZOFFSETFROM:+0200
TZOFFSETTO:+0100
TZNAME:CET
DTSTART:20231029T010000
END:STANDARD
BEGIN:DAYLIGHT
TZOFFSETFROM:+0100
TZOFFSETTO:+0200
TZNAME:CEST
DTSTART:20240331T010000
END:DAYLIGHT
BEGIN:STANDARD
TZOFFSETFROM:+0200
TZOFFSETTO:+0100
TZNAME:CET
DTSTART:20241027T010000
END:STANDARD
END:VTIMEZONE
BEGIN:VEVENT
DTSTART;TZID=Europe/Berlin:20231111T140000
DTEND;TZID=Europe/Berlin:20231111T180000
DTSTAMP:20260424T051400
CREATED:20210917T114943Z
LAST-MODIFIED:20231109T130426Z
UID:2900-1699711200-1699725600@www.qdrei.info
SUMMARY:FAMILIEN-WORKSHOP – Digital und Draußen auf dem Bauernhof
DESCRIPTION:– ab 8 Jahren – \nAuf dem Bauernhof Holneich kann die ganze Familie das Leben und Arbeiten auf dem Hof entdecken. Nach einer digitalen Schnitzeljagt rund um den Hof können die Teilnehmer:innen an verschiedenen Fotografie Workshops teilnehmen.\nKeine Anmeldung mehr möglich.
URL:https://www.qdrei.info/veranstaltung/familien-workshop-bauernhof/
LOCATION:Bauernhof Holneich\, Holneich 2\, Surberg/ Lauter\, 83362
CATEGORIES:Family Akademie
END:VEVENT
BEGIN:VEVENT
DTSTART;TZID=Europe/Berlin:20231125T140000
DTEND;TZID=Europe/Berlin:20231125T180000
DTSTAMP:20260424T051400
CREATED:20210917T114605Z
LAST-MODIFIED:20231010T194759Z
UID:2896-1700920800-1700935200@www.qdrei.info
SUMMARY:FAMILIEN-WORKSHOP – Von der Milch zur Butter
DESCRIPTION:– ab 8 Jahren – \nAuf dem Bauernhof Holneich kann die ganze Familie das Leben und Arbeiten auf dem Hof entdecken. Nach einer digitalen Schnitzeljagt rund um den Hof erfahren die Teilnehmer:innen alles zum Thema Milchviehwirtschaft. Aus der Milch produzieren sie anschließend Kräuterbutter und halten das Rezept digital fest.\nEine Anmeldung ist bis zum 23.11.2023 möglich.\n \n  \n 
URL:https://www.qdrei.info/veranstaltung/familien-workshop-butter/
LOCATION:Bauernhof Holneich\, Holneich 2\, Surberg/ Lauter\, 83362
CATEGORIES:Family Akademie
END:VEVENT
END:VCALENDAR