BEGIN:VCALENDAR
VERSION:2.0
PRODID:-//Q3. Quartier für Medien.Bildung.Abenteuer. - ECPv6.15.14//NONSGML v1.0//EN
CALSCALE:GREGORIAN
METHOD:PUBLISH
X-WR-CALNAME:Q3. Quartier für Medien.Bildung.Abenteuer.
X-ORIGINAL-URL:https://www.qdrei.info
X-WR-CALDESC:Veranstaltungen für Q3. Quartier für Medien.Bildung.Abenteuer.
REFRESH-INTERVAL;VALUE=DURATION:PT1H
X-Robots-Tag:noindex
X-PUBLISHED-TTL:PT1H
BEGIN:VTIMEZONE
TZID:Europe/Berlin
BEGIN:DAYLIGHT
TZOFFSETFROM:+0100
TZOFFSETTO:+0200
TZNAME:CEST
DTSTART:20220327T010000
END:DAYLIGHT
BEGIN:STANDARD
TZOFFSETFROM:+0200
TZOFFSETTO:+0100
TZNAME:CET
DTSTART:20221030T010000
END:STANDARD
BEGIN:DAYLIGHT
TZOFFSETFROM:+0100
TZOFFSETTO:+0200
TZNAME:CEST
DTSTART:20230326T010000
END:DAYLIGHT
BEGIN:STANDARD
TZOFFSETFROM:+0200
TZOFFSETTO:+0100
TZNAME:CET
DTSTART:20231029T010000
END:STANDARD
BEGIN:DAYLIGHT
TZOFFSETFROM:+0100
TZOFFSETTO:+0200
TZNAME:CEST
DTSTART:20240331T010000
END:DAYLIGHT
BEGIN:STANDARD
TZOFFSETFROM:+0200
TZOFFSETTO:+0100
TZNAME:CET
DTSTART:20241027T010000
END:STANDARD
END:VTIMEZONE
BEGIN:VEVENT
DTSTART;TZID=Europe/Berlin:20231014T140000
DTEND;TZID=Europe/Berlin:20231014T180000
DTSTAMP:20260424T062829
CREATED:20210917T114839Z
LAST-MODIFIED:20231010T194250Z
UID:2898-1697292000-1697306400@www.qdrei.info
SUMMARY:FAMILIEN-WORKSHOP – Digitales Schattenspiel to-go
DESCRIPTION:– ab 6 Jahren – \nEine Geschichte wird mit einem von der Familie selbstgebauten Schattentheater zum Leben erweckt. Kinder können zusammen mit einem Familienmitglied das Schattenspiel aufnehmen und digitale Effekte hinzufügen\, um die Geschichte zu verschönern und sie anschließend mit Freunden zu teilen.\nEine Anmeldung ist bis zum 12.10.2023 möglich.
URL:https://www.qdrei.info/veranstaltung/familien-workshop-schattenspiel/
LOCATION:Campus St. Michael\, Vonfichtstr. 1\, Traunstein\, 83278
CATEGORIES:Family Akademie
END:VEVENT
BEGIN:VEVENT
DTSTART;TZID=Europe/Berlin:20231028T140000
DTEND;TZID=Europe/Berlin:20231028T180000
DTSTAMP:20260424T062829
CREATED:20210917T114505Z
LAST-MODIFIED:20231010T194405Z
UID:2894-1698501600-1698516000@www.qdrei.info
SUMMARY:FAMILIEN-WORKSHOP – Trickfilme selber machen
DESCRIPTION:– ab 6 Jahren – \nDurch Galaxien schweben oder Dinos treffen – dies und noch mehr ist in der Welt des Trickfilms ganz leicht möglich. Kinder können zusammen mit einem Familienmitglied Gegenstände und Bilder zum Leben erwecken. Gemeinsam realisieren die Familien unter Anleitung einen „Trickfilm zum Mitnehmen“ und präsentieren im Rahmen der Trostberger Filmtage.\nEine Anmeldung ist bis zum 26.10.2023 möglich.
URL:https://www.qdrei.info/veranstaltung/familien-workshop-trickfilm/
LOCATION:Q3.LAB/Stadtkino Trostberg\, Schützenstraße\, Trostberg\, Bayern\, 83308\, Deutschland
CATEGORIES:Family Akademie
END:VEVENT
END:VCALENDAR