BEGIN:VCALENDAR
VERSION:2.0
PRODID:-//Q3. Quartier für Medien.Bildung.Abenteuer. - ECPv6.15.14//NONSGML v1.0//EN
CALSCALE:GREGORIAN
METHOD:PUBLISH
X-WR-CALNAME:Q3. Quartier für Medien.Bildung.Abenteuer.
X-ORIGINAL-URL:https://www.qdrei.info
X-WR-CALDESC:Veranstaltungen für Q3. Quartier für Medien.Bildung.Abenteuer.
REFRESH-INTERVAL;VALUE=DURATION:PT1H
X-Robots-Tag:noindex
X-PUBLISHED-TTL:PT1H
BEGIN:VTIMEZONE
TZID:Europe/Berlin
BEGIN:DAYLIGHT
TZOFFSETFROM:+0100
TZOFFSETTO:+0200
TZNAME:CEST
DTSTART:20200329T010000
END:DAYLIGHT
BEGIN:STANDARD
TZOFFSETFROM:+0200
TZOFFSETTO:+0100
TZNAME:CET
DTSTART:20201025T010000
END:STANDARD
BEGIN:DAYLIGHT
TZOFFSETFROM:+0100
TZOFFSETTO:+0200
TZNAME:CEST
DTSTART:20210328T010000
END:DAYLIGHT
BEGIN:STANDARD
TZOFFSETFROM:+0200
TZOFFSETTO:+0100
TZNAME:CET
DTSTART:20211031T010000
END:STANDARD
BEGIN:DAYLIGHT
TZOFFSETFROM:+0100
TZOFFSETTO:+0200
TZNAME:CEST
DTSTART:20220327T010000
END:DAYLIGHT
BEGIN:STANDARD
TZOFFSETFROM:+0200
TZOFFSETTO:+0100
TZNAME:CET
DTSTART:20221030T010000
END:STANDARD
END:VTIMEZONE
BEGIN:VEVENT
DTSTART;TZID=Europe/Berlin:20211127T140000
DTEND;TZID=Europe/Berlin:20211127T180000
DTSTAMP:20260425T135258
CREATED:20211001T135709Z
LAST-MODIFIED:20211123T103022Z
UID:2975-1638021600-1638036000@www.qdrei.info
SUMMARY:-VERSCHOBEN- Jede:r macht Geschichte\, aber nicht Jede:r wird dabei so sichtbar + Light Painting & Performance Photography
DESCRIPTION:Leider müssen wir aufgrund der zu erwartenden verschärften Corona-Maßnahmen die Ausstellung (22.11.bis 04.12.) „Jede:r macht Geschichte\, aber nicht jede:r wird dabei so sichtbar“\, die Eröffnung und das geplante Begleitprogramm sowie die Schulklassenworkshops verschieben.\nDa es voraussichtlich vor Dienstag keine klaren Vorgaben gibt\, mussten wir vor dem Aufbau diese Entscheidung treffen. Der Landkreis Traunstein zählt zu den Corona-Hotspots\, daher ist mit starken Einschränkungen zu rechnen.   \nLeider sind Jugendliche und die außerschulische Jugendbildung schon wieder die Verlierer der Situation. Jedoch finden wir es gerade jetzt wichtig zur Reduktion der Kontakte beizutragen und solidarisch mit den am Limit arbeitenden Kranken- und Pflegepersonal zu sein.\nWir bedauern es sehr\, dass die Arbeit der Jugendlichen nicht ihre verdiente Aufmerksamkeit und Wertschätzung erhalten kann. Wir finden es wichtig\, dass die Exponate\, aber auch das Thema der Ausstellung einem breiten Publikum zugänglich ist. Das können wir hoffentlich im Frühjahr 2022 besser gewährleisten als in den nächsten Wochen.  \n\n\nAufgeschoben ist nicht aufgehoben. Daher schlagen wir vor\, die Durchführung nun für das Frühjahr 2022\, voraussichtlich Anfang Mai\, anzusetzen.\nDas verschafft uns zusätzlich die Möglichkeit\, weiter an technischen und organisatorischen Innovationen zum Thema „Jede:r macht Geschichte\, aber nicht jede:r wird dabei so sichtbar“ zu arbeiten. Vielleicht entstehen somit noch mehr Projektumsetzungen von jungen Menschen.\nGeschichte sichtbar machen: Bei der Familienführung zeigen wir die Inhalte der Weiße Rose Wanderausstellung so\, dass die Thematik sowohl für Kinder als auch für Erwachsene greifbar wird. Schüler- und Jugendgruppen haben sich mit der Thematik beschäftigt\, dass uns Vergangenheit\, Gegenwart und Zukunft nicht gleichgültig bleiben soll. \nDie teilnehmenden Familien können auch selbst Geschichte erlebbar und sichtbar machen beim anschließenden Lightpainting-Workshop. \nLightpainting ist eine künstlerische Art der Fotografie. Mit Hilfe von Langzeitbelichtung und verschiedensten Lichtquellen entstehen fantastische\, surreale Bilder. Schriftzüge und andere Motive werden zum richtigen Hingucker. Gerne können eigene Kameras mitgebracht werden. Auch Taschenlampen oder andere kreative Lichtquellen sind herzlich willkommen. \nWir werden auch mit Blitzen und schnell blinkenden Lichtern arbeiten. Bitte beachten Sie dies\, wenn Sie oder Ihr Kind Epileptiker sind. \nOrt: Kulturforum Klosterkirche\, Traunstein
URL:https://www.qdrei.info/veranstaltung/familienfuehrung-scholl-ausstellung-light-painting-performance-photography/
END:VEVENT
END:VCALENDAR